BEGIN:VCALENDAR
VERSION:2.0
PRODID:-//The Immunology Podcast - ECPv6.15.20//NONSGML v1.0//EN
CALSCALE:GREGORIAN
METHOD:PUBLISH
X-WR-CALNAME:The Immunology Podcast
X-ORIGINAL-URL:https://www.immunologypodcast.com
X-WR-CALDESC:Events for The Immunology Podcast
REFRESH-INTERVAL;VALUE=DURATION:PT1H
X-Robots-Tag:noindex
X-PUBLISHED-TTL:PT1H
BEGIN:VTIMEZONE
TZID:America/New_York
BEGIN:DAYLIGHT
TZOFFSETFROM:-0500
TZOFFSETTO:-0400
TZNAME:EDT
DTSTART:20240310T070000
END:DAYLIGHT
BEGIN:STANDARD
TZOFFSETFROM:-0400
TZOFFSETTO:-0500
TZNAME:EST
DTSTART:20241103T060000
END:STANDARD
BEGIN:DAYLIGHT
TZOFFSETFROM:-0500
TZOFFSETTO:-0400
TZNAME:EDT
DTSTART:20250309T070000
END:DAYLIGHT
BEGIN:STANDARD
TZOFFSETFROM:-0400
TZOFFSETTO:-0500
TZNAME:EST
DTSTART:20251102T060000
END:STANDARD
BEGIN:DAYLIGHT
TZOFFSETFROM:-0500
TZOFFSETTO:-0400
TZNAME:EDT
DTSTART:20260308T070000
END:DAYLIGHT
BEGIN:STANDARD
TZOFFSETFROM:-0400
TZOFFSETTO:-0500
TZNAME:EST
DTSTART:20261101T060000
END:STANDARD
END:VTIMEZONE
BEGIN:VEVENT
DTSTART;TZID=America/New_York:20250505T100000
DTEND;TZID=America/New_York:20250505T111500
DTSTAMP:20260422T043152
CREATED:20250314T225300Z
LAST-MODIFIED:20250501T150545Z
UID:6066-1746439200-1746443700@www.immunologypodcast.com
SUMMARY:The Immunology Podcast Presents: Insights from 100 Conversations with Immunologists
DESCRIPTION:Join the Immunology Podcast for a live show at IMMUNOLOGY2025™\, as Brenda and Jason reflect on trends and perspectives in immunology\, drawing from four years of candid conversations with researchers in the field. Don’t miss this opportunity to hear behind-the-scenes stories\, ask your own questions\, and gain fresh perspectives on the future of immunology. \nDate: Monday\, May 5\, 2025\nTime: 10:00 – 11:15 a.m.\nLocation: Hawai’i Convention Center\, Room 319AB
URL:https://www.immunologypodcast.com/upcoming-guests/the-immunology-podcast-presents-insights-from-100-conversations-with-immunologists
ATTACH;FMTTYPE=image/png:https://www.immunologypodcast.com/wp-content/uploads/2023/05/Jason-and-Brenda-square.png
END:VEVENT
END:VCALENDAR